0.300000
0.000000
0.000000
-0.300000
581391.440089
3693254.223120
