0.300000
0.000000
0.000000
-0.300000
593613.740089
3631001.823120
