0.300000
0.000000
0.000000
-0.300000
593548.340089
3637930.923120
