0.300000
0.000000
0.000000
-0.300000
627995.840089
3686854.623120
