0.300000
0.000000
0.000000
-0.300000
627904.640089
3693784.623120
