0.300000
0.000000
0.000000
-0.300000
650837.159256
3714925.082759
