0.300000
0.000000
0.000000
-0.300000
650728.259256
3721855.682759
