0.300000
0.000000
0.000000
-0.300000
651700.940089
3659482.623120
