0.300000
0.000000
0.000000
-0.300000
663256.040089
3666607.323120
