0.300000
0.000000
0.000000
-0.300000
651593.540089
3666412.623120
