0.300000
0.000000
0.000000
-0.300000
657424.640089
3666508.323120
