0.300000
0.000000
0.000000
-0.300000
622870.340089
3631339.023120
