0.300000
0.000000
0.000000
-0.300000
616936.940089
3638194.023120
