0.300000
0.000000
0.000000
-0.300000
622784.240089
3638268.423120
