0.300000
0.000000
0.000000
-0.300000
535005.440089
3658301.823120
