0.300000
0.000000
0.000000
-0.300000
540839.840089
3658327.923120
