0.300000
0.000000
0.000000
-0.300000
488256.440089
3602795.223120
