0.300000
0.000000
0.000000
-0.300000
494127.740089
3602790.123120
