0.300000
0.000000
0.000000
-0.300000
494131.940089
3609718.323120
