0.300000
0.000000
0.000000
-0.300000
611011.640089
3645052.323120
