0.300000
0.000000
0.000000
-0.300000
581216.540089
3714043.323120
