0.300000
0.000000
0.000000
-0.300000
587017.940089
3714097.323120
