0.300000
0.000000
0.000000
-0.300000
628541.240089
3645276.123120
