0.300000
0.000000
0.000000
-0.300000
634384.640089
3645357.423120
