0.300000
0.000000
0.000000
-0.300000
628450.940089
3652205.523120
