0.300000
0.000000
0.000000
-0.300000
634290.140089
3652287.123120
