0.300000
0.000000
0.000000
-0.300000
673794.659256
3729193.082759
