0.300000
0.000000
0.000000
-0.300000
679588.859256
3729303.482759
