0.300000
0.000000
0.000000
-0.300000
679458.659256
3736234.682759
