0.300000
0.000000
0.000000
-0.300000
679848.359256
3715441.382759
