0.300000
0.000000
0.000000
-0.300000
679718.759256
3722372.582759
