0.300000
0.000000
0.000000
-0.300000
470642.840089
3602831.523120
