0.300000
0.000000
0.000000
-0.300000
453159.440089
3630612.723120
