0.300000
0.000000
0.000000
-0.300000
459014.540089
3630586.623120
