0.300000
0.000000
0.000000
-0.300000
511651.340089
3672090.123120
