0.300000
0.000000
0.000000
-0.300000
517477.340089
3672102.423120
