0.300000
0.000000
0.000000
-0.300000
511642.940089
3679019.223120
