0.300000
0.000000
0.000000
-0.300000
517465.040089
3679031.523120
