0.300000
0.000000
0.000000
-0.300000
529088.240089
3685995.423120
