0.300000
0.000000
0.000000
-0.300000
593086.040089
3686436.423120
