0.300000
0.000000
0.000000
-0.300000
598833.440089
3693427.023120
