0.300000
0.000000
0.000000
-0.300000
511781.840089
3561235.323120
