0.300000
0.000000
0.000000
-0.300000
517673.240089
3561247.323120
