0.300000
0.000000
0.000000
-0.300000
511773.740089
3568163.223120
