0.300000
0.000000
0.000000
-0.300000
453094.340089
3616755.423120
