0.300000
0.000000
0.000000
-0.300000
458957.240089
3616729.623120
