0.300000
0.000000
0.000000
-0.300000
610382.840089
3700489.323120
