0.300000
0.000000
0.000000
-0.300000
604497.740089
3707351.223120
