0.300000
0.000000
0.000000
-0.300000
610303.340089
3707419.323120
