0.300000
0.000000
0.000000
-0.300000
511700.540089
3630517.623120
